BEGIN:VCALENDAR
VERSION:2.0
PRODID:-//Small Steps Nurturing Center - ECPv6.15.12.2//NONSGML v1.0//EN
CALSCALE:GREGORIAN
METHOD:PUBLISH
X-WR-CALNAME:Small Steps Nurturing Center
X-ORIGINAL-URL:https://ssnc.org
X-WR-CALDESC:Events for Small Steps Nurturing Center
REFRESH-INTERVAL;VALUE=DURATION:PT1H
X-Robots-Tag:noindex
X-PUBLISHED-TTL:PT1H
BEGIN:VTIMEZONE
TZID:UTC
BEGIN:STANDARD
TZOFFSETFROM:+0000
TZOFFSETTO:+0000
TZNAME:UTC
DTSTART:20250101T000000
END:STANDARD
END:VTIMEZONE
BEGIN:VEVENT
DTSTART;TZID=UTC:20260424T000000
DTEND;TZID=UTC:20260424T000000
DTSTAMP:20260421T040242
CREATED:20250816T035641Z
LAST-MODIFIED:20250816T035641Z
UID:4111-1776988800-1776988800@ssnc.org
SUMMARY:Staff Recess (no school)
DESCRIPTION:
URL:https://ssnc.org/calendar-event/staff-recess-no-school-2/
END:VEVENT
END:VCALENDAR